Package: AneuFinder Version: 1.36.0 Command: /home/biocbuild/R/R/bin/R CMD build --keep-empty-dirs --no-resave-data AneuFinder StartedAt: 2025-10-13 22:33:00 -0000 (Mon, 13 Oct 2025) EndedAt: 2025-10-13 22:33:03 -0000 (Mon, 13 Oct 2025) EllapsedTime: 3.0 seconds RetCode: 1 Status: ERROR PackageFile: None PackageFileSize: NA