Package: AneuFinder Version: 1.36.0 Command: /Library/Frameworks/R.framework/Resources/bin/R CMD build --keep-empty-dirs --no-resave-data AneuFinder StartedAt: 2025-04-21 15:37:20 -0400 (Mon, 21 Apr 2025) EndedAt: 2025-04-21 15:37:21 -0400 (Mon, 21 Apr 2025) EllapsedTime: 1.0 seconds RetCode: 1 Status: ERROR PackageFile: None PackageFileSize: NA