Package: AnVILWorkflow Version: 1.10.0 Command: /home/biocbuild/bbs-3.22-bioc/R/bin/R CMD INSTALL AnVILWorkflow StartedAt: 2025-11-11 15:15:41 -0500 (Tue, 11 Nov 2025) EndedAt: 2025-11-11 15:15:50 -0500 (Tue, 11 Nov 2025) EllapsedTime: 9.0 seconds RetCode: 0 Status: OK