Package: AnVILWorkflow Version: 1.8.0 Command: /home/biocbuild/bbs-3.21-bioc/R/bin/R CMD INSTALL AnVILWorkflow StartedAt: 2025-10-12 15:11:07 -0400 (Sun, 12 Oct 2025) EndedAt: 2025-10-12 15:11:16 -0400 (Sun, 12 Oct 2025) EllapsedTime: 9.1 seconds RetCode: 0 Status: OK