Package: AnVILWorkflow Version: 1.8.0 Command: /Library/Frameworks/R.framework/Resources/bin/R CMD INSTALL AnVILWorkflow StartedAt: 2025-04-21 15:11:28 -0400 (Mon, 21 Apr 2025) EndedAt: 2025-04-21 15:11:51 -0400 (Mon, 21 Apr 2025) EllapsedTime: 22.9 seconds RetCode: 0 Status: OK