Package: AnVILWorkflow Version: 1.8.0 Command: rm -rf AnVILWorkflow.buildbin-libdir && mkdir AnVILWorkflow.buildbin-libdir && /Users/biocbuild/BBS/utils/build-universal.sh AnVILWorkflow_1.8.0.tar.gz /Library/Frameworks/R.framework/Resources/bin/R AnVILWorkflow.buildbin-libdir StartedAt: 2025-04-22 00:33:30 -0400 (Tue, 22 Apr 2025) EndedAt: 2025-04-22 00:33:39 -0400 (Tue, 22 Apr 2025) EllapsedTime: 9.5 seconds RetCode: 0 Status: OK PackageFile: AnVILWorkflow_1.8.0.tgz PackageFileSize: 1.016 MiB