Package: AnVILWorkflow Version: 1.8.0 Command: /Library/Frameworks/R.framework/Resources/bin/R CMD INSTALL AnVILWorkflow StartedAt: 2025-10-13 15:31:41 -0400 (Mon, 13 Oct 2025) EndedAt: 2025-10-13 15:31:49 -0400 (Mon, 13 Oct 2025) EllapsedTime: 8.3 seconds RetCode: 0 Status: OK