Package: AnVILWorkflow Version: 1.8.0 Command: rm -rf AnVILWorkflow.buildbin-libdir && mkdir AnVILWorkflow.buildbin-libdir && /Users/biocbuild/BBS/utils/build-universal.sh AnVILWorkflow_1.8.0.tar.gz /Library/Frameworks/R.framework/Resources/bin/R AnVILWorkflow.buildbin-libdir StartedAt: 2025-10-15 17:24:54 -0400 (Wed, 15 Oct 2025) EndedAt: 2025-10-15 17:25:02 -0400 (Wed, 15 Oct 2025) EllapsedTime: 8.0 seconds RetCode: 0 Status: OK PackageFile: AnVILWorkflow_1.8.0.tgz PackageFileSize: 1.017 MiB