Package: AnVILWorkflow Version: 1.8.0 Maintainer: Sehyun Oh MaintainerEmail: shbrief at gmail.com git_url: https://git.bioconductor.org/packages/AnVILWorkflow git_branch: RELEASE_3_21 git_last_commit: aa6e807 git_last_commit_date: 2025-04-15 13:02:43 -0400 (Tue, 15 Apr 2025)