Package: AnVILPublish Version: 1.20.0 Command: /home/biocbuild/bbs-3.22-bioc/R/bin/R CMD INSTALL AnVILPublish StartedAt: 2025-11-13 15:09:57 -0500 (Thu, 13 Nov 2025) EndedAt: 2025-11-13 15:10:07 -0500 (Thu, 13 Nov 2025) EllapsedTime: 9.5 seconds RetCode: 0 Status: OK