Package: AnVILGCP Version: 1.4.0 Command: /Library/Frameworks/R.framework/Resources/bin/R CMD INSTALL AnVILGCP StartedAt: 2025-11-03 15:05:11 -0500 (Mon, 03 Nov 2025) EndedAt: 2025-11-03 15:05:14 -0500 (Mon, 03 Nov 2025) EllapsedTime: 3.1 seconds RetCode: 0 Status: OK