Package: AnVILGCP Version: 1.4.0 Command: /Library/Frameworks/R.framework/Resources/bin/R CMD build --keep-empty-dirs --no-resave-data AnVILGCP StartedAt: 2025-11-02 15:38:14 -0500 (Sun, 02 Nov 2025) EndedAt: 2025-11-02 15:38:19 -0500 (Sun, 02 Nov 2025) EllapsedTime: 4.1 seconds RetCode: 0 Status: OK PackageFile: AnVILGCP_1.4.0.tar.gz PackageFileSize: 414.6 KiB