Package: AnVILGCP Version: 1.4.0 Command: rm -rf AnVILGCP.buildbin-libdir && mkdir AnVILGCP.buildbin-libdir && /Users/biocbuild/BBS/utils/build-universal.sh AnVILGCP_1.4.0.tar.gz /Library/Frameworks/R.framework/Resources/bin/R AnVILGCP.buildbin-libdir StartedAt: 2025-11-04 22:54:48 -0500 (Tue, 04 Nov 2025) EndedAt: 2025-11-04 22:54:51 -0500 (Tue, 04 Nov 2025) EllapsedTime: 3.1 seconds RetCode: 0 Status: OK PackageFile: AnVILGCP_1.4.0.tgz PackageFileSize: 461.4 KiB