Package: AnVILBilling Version: 1.20.0 Command: /home/biocbuild/bbs-3.22-bioc/R/bin/R CMD INSTALL AnVILBilling StartedAt: 2025-11-11 15:12:59 -0500 (Tue, 11 Nov 2025) EndedAt: 2025-11-11 15:13:14 -0500 (Tue, 11 Nov 2025) EllapsedTime: 15.1 seconds RetCode: 0 Status: OK