Package: AnVILBilling Version: 1.20.0 Command: /home/biocbuild/bbs-3.22-bioc/R/bin/R CMD build --keep-empty-dirs --no-resave-data --md5 AnVILBilling StartedAt: 2025-11-11 16:17:37 -0500 (Tue, 11 Nov 2025) EndedAt: 2025-11-11 16:17:51 -0500 (Tue, 11 Nov 2025) EllapsedTime: 14.0 seconds RetCode: 0 Status: OK PackageFile: AnVILBilling_1.20.0.tar.gz PackageFileSize: 1.008 MiB