Package: AnVILBilling Version: 1.20.0 Command: /Library/Frameworks/R.framework/Resources/bin/R CMD INSTALL AnVILBilling StartedAt: 2025-11-10 15:04:59 -0500 (Mon, 10 Nov 2025) EndedAt: 2025-11-10 15:05:07 -0500 (Mon, 10 Nov 2025) EllapsedTime: 7.3 seconds RetCode: 0 Status: OK