Package: AnVILBase Version: 1.4.0 Command: /home/biocbuild/R/R/bin/R CMD build --keep-empty-dirs --no-resave-data AnVILBase StartedAt: 2025-11-10 23:27:12 -0000 (Mon, 10 Nov 2025) EndedAt: 2025-11-10 23:27:20 -0000 (Mon, 10 Nov 2025) EllapsedTime: 8.0 seconds RetCode: 0 Status: OK PackageFile: AnVILBase_1.4.0.tar.gz PackageFileSize: 252.6 KiB