Package: AnVILBase Version: 1.4.0 Command: /home/biocbuild/bbs-3.22-bioc/R/bin/R CMD INSTALL AnVILBase StartedAt: 2025-11-13 15:09:21 -0500 (Thu, 13 Nov 2025) EndedAt: 2025-11-13 15:09:31 -0500 (Thu, 13 Nov 2025) EllapsedTime: 9.4 seconds RetCode: 0 Status: OK