Package: AnVILBase Version: 1.4.0 Command: /home/biocbuild/bbs-3.22-bioc/R/bin/R CMD check --install=check:AnVILBase.install-out.txt --library=/home/biocbuild/bbs-3.22-bioc/R/site-library --timings AnVILBase_1.4.0.tar.gz StartedAt: 2025-11-11 21:12:52 -0500 (Tue, 11 Nov 2025) EndedAt: 2025-11-11 21:13:21 -0500 (Tue, 11 Nov 2025) EllapsedTime: 29.0 seconds RetCode: 0 Status: OK CheckDir: AnVILBase.Rcheck Warnings: 0