Package: AnVILBase Version: 1.2.0 Command: /Library/Frameworks/R.framework/Resources/bin/R CMD INSTALL AnVILBase StartedAt: 2025-10-13 15:16:16 -0400 (Mon, 13 Oct 2025) EndedAt: 2025-10-13 15:16:48 -0400 (Mon, 13 Oct 2025) EllapsedTime: 31.8 seconds RetCode: 0 Status: OK