Package: AnVILBase Version: 1.2.0 Command: /Library/Frameworks/R.framework/Resources/bin/R CMD build --keep-empty-dirs --no-resave-data AnVILBase StartedAt: 2025-10-13 17:04:11 -0400 (Mon, 13 Oct 2025) EndedAt: 2025-10-13 17:04:26 -0400 (Mon, 13 Oct 2025) EllapsedTime: 15.0 seconds RetCode: 0 Status: OK PackageFile: AnVILBase_1.2.0.tar.gz PackageFileSize: 227.8 KiB