Package: AnVILBase Version: 1.2.0 Command: rm -rf AnVILBase.buildbin-libdir && mkdir AnVILBase.buildbin-libdir && /Users/biocbuild/BBS/utils/build-universal.sh AnVILBase_1.2.0.tar.gz /Library/Frameworks/R.framework/Resources/bin/R AnVILBase.buildbin-libdir StartedAt: 2025-10-10 12:50:59 -0400 (Fri, 10 Oct 2025) EndedAt: 2025-10-10 12:51:09 -0400 (Fri, 10 Oct 2025) EllapsedTime: 10.3 seconds RetCode: 0 Status: OK PackageFile: AnVILBase_1.2.0.tgz PackageFileSize: 308.8 KiB