Package: AnVILAz Version: 1.4.0 Command: /home/biocbuild/bbs-3.22-bioc/R/bin/R CMD INSTALL AnVILAz StartedAt: 2025-11-11 15:13:22 -0500 (Tue, 11 Nov 2025) EndedAt: 2025-11-11 15:13:28 -0500 (Tue, 11 Nov 2025) EllapsedTime: 5.9 seconds RetCode: 0 Status: OK