Package: AnVILAz Version: 1.4.0 Command: /home/biocbuild/bbs-3.22-bioc/R/bin/R CMD build --keep-empty-dirs --no-resave-data --md5 AnVILAz StartedAt: 2025-11-11 16:17:29 -0500 (Tue, 11 Nov 2025) EndedAt: 2025-11-11 16:17:37 -0500 (Tue, 11 Nov 2025) EllapsedTime: 8.0 seconds RetCode: 0 Status: OK PackageFile: AnVILAz_1.4.0.tar.gz PackageFileSize: 828 KiB