Package: AnVILAz Version: 1.2.0 Command: /home/biocbuild/R/R/bin/R CMD build --keep-empty-dirs --no-resave-data AnVILAz StartedAt: 2025-09-25 22:34:55 -0000 (Thu, 25 Sep 2025) EndedAt: 2025-09-25 22:35:06 -0000 (Thu, 25 Sep 2025) EllapsedTime: 11.0 seconds RetCode: 0 Status: OK PackageFile: AnVILAz_1.2.0.tar.gz PackageFileSize: 959.7 KiB