Package: AnVIL Version: 1.22.0 Command: /home/biocbuild/bbs-3.22-bioc/R/bin/R CMD build --keep-empty-dirs --no-resave-data --md5 AnVIL StartedAt: 2025-11-11 16:17:29 -0500 (Tue, 11 Nov 2025) EndedAt: 2025-11-11 16:17:42 -0500 (Tue, 11 Nov 2025) EllapsedTime: 13.0 seconds RetCode: 0 Status: OK PackageFile: AnVIL_1.22.0.tar.gz PackageFileSize: 1.16 MiB