Package: AnVIL Version: 1.22.0 Command: /Library/Frameworks/R.framework/Resources/bin/R CMD INSTALL AnVIL StartedAt: 2025-11-10 15:05:13 -0500 (Mon, 10 Nov 2025) EndedAt: 2025-11-10 15:05:16 -0500 (Mon, 10 Nov 2025) EllapsedTime: 2.7 seconds RetCode: 0 Status: OK