Package: AnVIL Version: 1.22.0 Command: /Library/Frameworks/R.framework/Resources/bin/R CMD build --keep-empty-dirs --no-resave-data AnVIL StartedAt: 2025-11-10 15:38:02 -0500 (Mon, 10 Nov 2025) EndedAt: 2025-11-10 15:38:09 -0500 (Mon, 10 Nov 2025) EllapsedTime: 7.1 seconds RetCode: 0 Status: OK PackageFile: AnVIL_1.22.0.tar.gz PackageFileSize: 1.158 MiB