Package: AnVIL Version: 1.22.0 Command: rm -rf AnVIL.buildbin-libdir && mkdir AnVIL.buildbin-libdir && /Users/biocbuild/BBS/utils/build-universal.sh AnVIL_1.22.0.tar.gz /Library/Frameworks/R.framework/Resources/bin/R AnVIL.buildbin-libdir StartedAt: 2025-11-10 23:11:15 -0500 (Mon, 10 Nov 2025) EndedAt: 2025-11-10 23:11:18 -0500 (Mon, 10 Nov 2025) EllapsedTime: 3.1 seconds RetCode: 0 Status: OK PackageFile: AnVIL_1.22.0.tgz PackageFileSize: 1.022 MiB