Package: AlpsNMR Version: 4.12.0 Command: /home/biocbuild/bbs-3.22-bioc/R/bin/R CMD INSTALL AlpsNMR StartedAt: 2025-11-14 15:11:04 -0500 (Fri, 14 Nov 2025) EndedAt: 2025-11-14 15:11:17 -0500 (Fri, 14 Nov 2025) EllapsedTime: 12.9 seconds RetCode: 0 Status: OK