Package: AlpsNMR Version: 4.12.0 Command: /home/biocbuild/bbs-3.22-bioc/R/bin/R CMD build --keep-empty-dirs --no-resave-data --md5 AlpsNMR StartedAt: 2025-11-14 16:13:41 -0500 (Fri, 14 Nov 2025) EndedAt: 2025-11-14 16:15:39 -0500 (Fri, 14 Nov 2025) EllapsedTime: 118.1 seconds RetCode: 0 Status: OK PackageFile: AlpsNMR_4.12.0.tar.gz PackageFileSize: 3.709 MiB