Package: AlphaMissenseR Version: 1.4.2 Command: /home/biocbuild/bbs-3.21-bioc/R/bin/R CMD build --keep-empty-dirs --no-resave-data AlphaMissenseR StartedAt: 2025-10-05 16:09:37 -0400 (Sun, 05 Oct 2025) EndedAt: 2025-10-05 16:11:21 -0400 (Sun, 05 Oct 2025) EllapsedTime: 104.1 seconds RetCode: 1 Status: ERROR PackageFile: None PackageFileSize: NA