Package: AlphaMissenseR Version: 1.4.3 Command: /Library/Frameworks/R.framework/Resources/bin/R CMD INSTALL AlphaMissenseR StartedAt: 2025-10-13 15:17:06 -0400 (Mon, 13 Oct 2025) EndedAt: 2025-10-13 15:17:42 -0400 (Mon, 13 Oct 2025) EllapsedTime: 36.8 seconds RetCode: 0 Status: OK