Package: AlphaMissenseR Version: 1.4.0 Command: /Library/Frameworks/R.framework/Resources/bin/R CMD INSTALL AlphaMissenseR StartedAt: 2025-04-21 15:10:07 -0400 (Mon, 21 Apr 2025) EndedAt: 2025-04-21 15:10:38 -0400 (Mon, 21 Apr 2025) EllapsedTime: 31.2 seconds RetCode: 0 Status: OK