Package: AlphaMissenseR Version: 1.4.0 Command: /Library/Frameworks/R.framework/Resources/bin/R CMD build --keep-empty-dirs --no-resave-data AlphaMissenseR StartedAt: 2025-04-21 15:55:39 -0400 (Mon, 21 Apr 2025) EndedAt: 2025-04-21 15:57:46 -0400 (Mon, 21 Apr 2025) EllapsedTime: 127.1 seconds RetCode: 0 Status: OK PackageFile: AlphaMissenseR_1.4.0.tar.gz PackageFileSize: 2.8 MiB