Package: AlphaMissenseR Version: 1.4.2 Command: rm -rf AlphaMissenseR.buildbin-libdir && mkdir AlphaMissenseR.buildbin-libdir && /Users/biocbuild/BBS/utils/build-universal.sh AlphaMissenseR_1.4.2.tar.gz /Library/Frameworks/R.framework/Resources/bin/R AlphaMissenseR.buildbin-libdir StartedAt: 2025-09-10 16:07:58 -0400 (Wed, 10 Sep 2025) EndedAt: 2025-09-10 16:08:10 -0400 (Wed, 10 Sep 2025) EllapsedTime: 12.2 seconds RetCode: 0 Status: OK PackageFile: AlphaMissenseR_1.4.2.tgz PackageFileSize: 2.746 MiB