Package: AlphaMissenseR Version: 1.6.0 Maintainer: Martin Morgan MaintainerEmail: mtmorgan.xyz at gmail.com git_url: https://git.bioconductor.org/packages/AlphaMissenseR git_branch: RELEASE_3_22 git_last_commit: 869abf7 git_last_commit_date: 2025-10-29 11:27:01 -0400 (Wed, 29 Oct 2025)