Package: AlphaBeta Version: 1.24.0 Command: /home/biocbuild/bbs-3.22-bioc/R/bin/R CMD check --install=check:AlphaBeta.install-out.txt --library=/home/biocbuild/bbs-3.22-bioc/R/site-library --timings AlphaBeta_1.24.0.tar.gz StartedAt: 2025-11-13 21:06:01 -0500 (Thu, 13 Nov 2025) EndedAt: 2025-11-13 21:16:11 -0500 (Thu, 13 Nov 2025) EllapsedTime: 609.7 seconds RetCode: 0 Status: OK CheckDir: AlphaBeta.Rcheck Warnings: 0