Package: AlphaBeta Version: 1.24.0 Command: /home/biocbuild/bbs-3.22-bioc/R/bin/R CMD build --keep-empty-dirs --no-resave-data --md5 AlphaBeta StartedAt: 2025-11-11 16:15:22 -0500 (Tue, 11 Nov 2025) EndedAt: 2025-11-11 16:19:34 -0500 (Tue, 11 Nov 2025) EllapsedTime: 252.2 seconds RetCode: 0 Status: OK PackageFile: AlphaBeta_1.24.0.tar.gz PackageFileSize: 2.478 MiB