Package: AlphaBeta Version: 1.22.0 Command: /home/biocbuild/bbs-3.21-bioc/R/bin/R CMD build --keep-empty-dirs --no-resave-data AlphaBeta StartedAt: 2025-10-15 16:09:25 -0400 (Wed, 15 Oct 2025) EndedAt: 2025-10-15 16:13:51 -0400 (Wed, 15 Oct 2025) EllapsedTime: 266.3 seconds RetCode: 0 Status: OK PackageFile: AlphaBeta_1.22.0.tar.gz PackageFileSize: 2.476 MiB