Package: AlphaBeta Version: 1.22.0 Command: /Library/Frameworks/R.framework/Resources/bin/R CMD INSTALL AlphaBeta StartedAt: 2025-04-21 15:09:10 -0400 (Mon, 21 Apr 2025) EndedAt: 2025-04-21 15:09:34 -0400 (Mon, 21 Apr 2025) EllapsedTime: 23.3 seconds RetCode: 0 Status: OK