Package: AlphaBeta Version: 1.22.0 Command: /home/biocbuild/R/R/bin/R CMD INSTALL AlphaBeta StartedAt: 2025-09-29 20:20:38 -0000 (Mon, 29 Sep 2025) EndedAt: 2025-09-29 20:21:04 -0000 (Mon, 29 Sep 2025) EllapsedTime: 25.4 seconds RetCode: 0 Status: OK