Package: AlphaBeta Version: 1.22.0 Command: /home/biocbuild/R/R/bin/R CMD build --keep-empty-dirs --no-resave-data AlphaBeta StartedAt: 2025-09-29 22:32:08 -0000 (Mon, 29 Sep 2025) EndedAt: 2025-09-29 22:38:50 -0000 (Mon, 29 Sep 2025) EllapsedTime: 401.1 seconds RetCode: 0 Status: OK PackageFile: AlphaBeta_1.22.0.tar.gz PackageFileSize: 2.473 MiB