Package: AlphaBeta Version: 1.22.0 Command: /Library/Frameworks/R.framework/Resources/bin/R CMD build --keep-empty-dirs --no-resave-data AlphaBeta StartedAt: 2025-10-13 18:56:42 -0400 (Mon, 13 Oct 2025) EndedAt: 2025-10-13 19:01:26 -0400 (Mon, 13 Oct 2025) EllapsedTime: 284.3 seconds RetCode: 0 Status: OK PackageFile: AlphaBeta_1.22.0.tar.gz PackageFileSize: 2.505 MiB