Package: AlphaBeta Version: 1.22.0 Command: rm -rf AlphaBeta.buildbin-libdir && mkdir AlphaBeta.buildbin-libdir && /Users/biocbuild/BBS/utils/build-universal.sh AlphaBeta_1.22.0.tar.gz /Library/Frameworks/R.framework/Resources/bin/R AlphaBeta.buildbin-libdir StartedAt: 2025-10-15 17:22:58 -0400 (Wed, 15 Oct 2025) EndedAt: 2025-10-15 17:23:17 -0400 (Wed, 15 Oct 2025) EllapsedTime: 19.3 seconds RetCode: 0 Status: OK PackageFile: AlphaBeta_1.22.0.tgz PackageFileSize: 2.703 MiB