Package: AllelicImbalance Version: 1.48.0 Command: /home/biocbuild/bbs-3.22-bioc/R/bin/R CMD INSTALL AllelicImbalance StartedAt: 2025-11-17 18:03:29 -0500 (Mon, 17 Nov 2025) EndedAt: 2025-11-17 18:04:28 -0500 (Mon, 17 Nov 2025) EllapsedTime: 59.1 seconds RetCode: 0 Status: OK