Package: AllelicImbalance Version: 1.48.0 Command: /home/biocbuild/bbs-3.22-bioc/R/bin/R CMD build --keep-empty-dirs --no-resave-data --md5 AllelicImbalance StartedAt: 2025-11-17 19:22:31 -0500 (Mon, 17 Nov 2025) EndedAt: 2025-11-17 19:25:06 -0500 (Mon, 17 Nov 2025) EllapsedTime: 154.2 seconds RetCode: 0 Status: OK PackageFile: AllelicImbalance_1.48.0.tar.gz PackageFileSize: 780.5 KiB