Package: AgiMicroRna Version: 2.60.0 Command: /home/biocbuild/bbs-3.22-bioc/R/bin/R CMD INSTALL AgiMicroRna StartedAt: 2025-11-11 15:54:19 -0500 (Tue, 11 Nov 2025) EndedAt: 2025-11-11 15:55:26 -0500 (Tue, 11 Nov 2025) EllapsedTime: 66.7 seconds RetCode: 0 Status: OK