Package: AgiMicroRna Version: 2.60.0 Command: /Library/Frameworks/R.framework/Resources/bin/R CMD INSTALL AgiMicroRna StartedAt: 2025-11-10 15:26:24 -0500 (Mon, 10 Nov 2025) EndedAt: 2025-11-10 15:26:50 -0500 (Mon, 10 Nov 2025) EllapsedTime: 26.1 seconds RetCode: 0 Status: OK