Package: AgiMicroRna Version: 2.60.0 Command: /Library/Frameworks/R.framework/Resources/bin/R CMD build --keep-empty-dirs --no-resave-data AgiMicroRna StartedAt: 2025-11-10 15:36:09 -0500 (Mon, 10 Nov 2025) EndedAt: 2025-11-10 15:37:06 -0500 (Mon, 10 Nov 2025) EllapsedTime: 56.6 seconds RetCode: 0 Status: OK PackageFile: AgiMicroRna_2.60.0.tar.gz PackageFileSize: 3.066 MiB